BEGIN:VCALENDAR
VERSION:2.0
PRODID:-//MŠ Dobrovského - ECPv5.16.4//NONSGML v1.0//EN
CALSCALE:GREGORIAN
METHOD:PUBLISH
X-WR-CALNAME:MŠ Dobrovského
X-ORIGINAL-URL:https://www.msdobrovskeho.cz
X-WR-CALDESC:Akce na MŠ Dobrovského
BEGIN:VTIMEZONE
TZID:Europe/Prague
BEGIN:DAYLIGHT
TZOFFSETFROM:+0100
TZOFFSETTO:+0200
TZNAME:CEST
DTSTART:20260329T010000
END:DAYLIGHT
BEGIN:STANDARD
TZOFFSETFROM:+0200
TZOFFSETTO:+0100
TZNAME:CET
DTSTART:20261025T010000
END:STANDARD
END:VTIMEZONE
BEGIN:VEVENT
DTSTART;TZID=Europe/Prague:20260512T100000
DTEND;TZID=Europe/Prague:20260512T113000
DTSTAMP:20260425T172208
CREATED:20260304T152518Z
LAST-MODIFIED:20260309T063512Z
UID:1804-1778580000-1778585400@www.msdobrovskeho.cz
SUMMARY:Představení v Semilasse
DESCRIPTION:
URL:https://www.msdobrovskeho.cz/kalendar/predstaveniv-semilasse/
CATEGORIES:kalendář
END:VEVENT
END:VCALENDAR