BEGIN:VCALENDAR
VERSION:2.0
PRODID:-//MŠ Dobrovského - ECPv5.16.4//NONSGML v1.0//EN
CALSCALE:GREGORIAN
METHOD:PUBLISH
X-WR-CALNAME:MŠ Dobrovského
X-ORIGINAL-URL:https://www.msdobrovskeho.cz
X-WR-CALDESC:Akce na MŠ Dobrovského
BEGIN:VTIMEZONE
TZID:Europe/Prague
BEGIN:DAYLIGHT
TZOFFSETFROM:+0100
TZOFFSETTO:+0200
TZNAME:CEST
DTSTART:20260329T010000
END:DAYLIGHT
BEGIN:STANDARD
TZOFFSETFROM:+0200
TZOFFSETTO:+0100
TZNAME:CET
DTSTART:20261025T010000
END:STANDARD
END:VTIMEZONE
BEGIN:VEVENT
DTSTART;TZID=Europe/Prague:20260330T080000
DTEND;TZID=Europe/Prague:20260402T120000
DTSTAMP:20260425T164511
CREATED:20250904T150611Z
LAST-MODIFIED:20260309T063411Z
UID:1665-1774857600-1775131200@www.msdobrovskeho.cz
SUMMARY:Barevný týden
DESCRIPTION:
URL:https://www.msdobrovskeho.cz/kalendar/barevny-tyden-2/
CATEGORIES:kalendář
END:VEVENT
BEGIN:VEVENT
DTSTART;TZID=Europe/Prague:20260331T100000
DTEND;TZID=Europe/Prague:20260331T110000
DTSTAMP:20260425T164511
CREATED:20260324T130324Z
LAST-MODIFIED:20260324T130336Z
UID:1828-1774951200-1774954800@www.msdobrovskeho.cz
SUMMARY:Modré šátečky
DESCRIPTION:
URL:https://www.msdobrovskeho.cz/kalendar/modre-satecky/
CATEGORIES:kalendář
END:VEVENT
BEGIN:VEVENT
DTSTART;TZID=Europe/Prague:20260409T083000
DTEND;TZID=Europe/Prague:20260409T113000
DTSTAMP:20260425T164511
CREATED:20250904T152345Z
LAST-MODIFIED:20250904T152345Z
UID:1687-1775723400-1775734200@www.msdobrovskeho.cz
SUMMARY:Farma U TŘÍ KONÍKŮ
DESCRIPTION:S dětmi pojedeme trolejbusem na naši oblíbenou rodinnou farmu do Komína. Děti budou farmařit\, dejte jim pohodlné/sportovní oblečení\, které si mohou umazat.
URL:https://www.msdobrovskeho.cz/kalendar/farma-u-tri-koniku-2/
CATEGORIES:kalendář
END:VEVENT
BEGIN:VEVENT
DTSTART;TZID=Europe/Prague:20260429T080000
DTEND;TZID=Europe/Prague:20260429T113000
DTSTAMP:20260425T164511
CREATED:20250904T152636Z
LAST-MODIFIED:20250904T152636Z
UID:1689-1777449600-1777462200@www.msdobrovskeho.cz
SUMMARY:Centrum Lipka - pro předškoláky
DESCRIPTION:Pojedeme do Pisárek na program Skřítek a (ne)obyčejné věci.
URL:https://www.msdobrovskeho.cz/kalendar/centrum-lipka-pro-predskolaky/
CATEGORIES:kalendář
END:VEVENT
BEGIN:VEVENT
DTSTART;TZID=Europe/Prague:20260429T093000
DTEND;TZID=Europe/Prague:20260429T113000
DTSTAMP:20260425T164511
CREATED:20260413T122458Z
LAST-MODIFIED:20260413T122458Z
UID:1840-1777455000-1777462200@www.msdobrovskeho.cz
SUMMARY:Den Země
DESCRIPTION:
URL:https://www.msdobrovskeho.cz/kalendar/den-zeme/
CATEGORIES:kalendář
END:VEVENT
BEGIN:VEVENT
DTSTART;TZID=Europe/Prague:20260430T080000
DTEND;TZID=Europe/Prague:20260430T120000
DTSTAMP:20260425T164511
CREATED:20250904T150654Z
LAST-MODIFIED:20250904T150654Z
UID:1668-1777536000-1777550400@www.msdobrovskeho.cz
SUMMARY:Pálení čarodějnic
DESCRIPTION:
URL:https://www.msdobrovskeho.cz/kalendar/paleni-carodejnic/
CATEGORIES:kalendář
END:VEVENT
END:VCALENDAR